BEGIN:VCALENDAR
PRODID:-//Microsoft Corporation//Outlook 14.0 MIMEDIR//EN
VERSION:2.0
METHOD:PUBLISH
BEGIN:VEVENT
UID:5a3d16d079e8d6f07407f1329588082fwww.clubcaninchomedey.com
DTSTAMP:20260423T115450Z
DTSTART:2026-04-28T19:00:0000Z
DTEND:2026-04-28T20:00:0000Z
SUMMARY:Pratique de maniement de conformation 19:00            
LOCATION:Club canin chomedey
DESCRIPTION:Les pratiques dirigées sont encadrées et ont pour but de permettre aux chiens de s’habituer à l’examen d’un juge ainsi qu’aux manieurs de pratiquer leur technique et d’habituer l’équipe au ring de conformation. Le nombre de participants est limité à 8 et ouvert aux membres et non-membres. L’inscription est confirmée seulement sur réception du paiement.
Instructeurs: Katia Lemay, Andrée Arcand, Anie Goossens et Normand Poirier.
END:VEVENT
END:VCALENDAR