BEGIN:VCALENDAR
PRODID:-//Microsoft Corporation//Outlook 14.0 MIMEDIR//EN
VERSION:2.0
METHOD:PUBLISH
BEGIN:VEVENT
UID:a3e6d39c49bc0894af55e32af0d6daabwww.clubcaninchomedey.com
DTSTAMP:20260421T110646Z
DTSTART:2026-06-20T09:15:0000Z
DTEND:2026-06-20T10:15:0000Z
SUMMARY:Obéissance - Base 1 Gr2 Samedi AM   
LOCATION:Club canin chomedey
DESCRIPTION:Ce cours s’adresse aux gens désireux de mettre en place des bases d’éducation solides et de bonnes habitudes dans un esprit de collaboration avec leur compagnon canin.

Votre chien doit être âgé d’au moins 6 mois pour s’inscrire à ce cours. Un minimum de participants est requis pour l’ouverture du cours.  Si le groupe est complet, inscrivez-vous sur la liste d’attente. Nous pourrions ouvrir un nouveau groupe.
Coût : 242$ + tx
Instructeur: Caroline Boudreault

END:VEVENT
END:VCALENDAR