BEGIN:VCALENDAR
PRODID:-//Microsoft Corporation//Outlook 14.0 MIMEDIR//EN
VERSION:2.0
METHOD:PUBLISH
BEGIN:VEVENT
UID:3071894153b44be44dc20e7ecd35ae54www.clubcaninchomedey.com
DTSTAMP:20260421T110524Z
DTSTART:2026-06-16T20:00:0000Z
DTEND:2026-06-16T21:00:0000Z
SUMMARY:Agilité Inter/Expert Mardi 20h00
LOCATION:Club canin chomedey
DESCRIPTION:Vous avez terminé votre brevet novice ou intermédiaire et vous faites de la compétions de niveau Intermédiaire ou Expert; ceci est le prochain cours où vous devez vous inscrire.
END:VEVENT
END:VCALENDAR