BEGIN:VCALENDAR
PRODID:-//Microsoft Corporation//Outlook 14.0 MIMEDIR//EN
VERSION:2.0
METHOD:PUBLISH
BEGIN:VEVENT
UID:0fb4419bd9a26ce36f90a982ee0f203dwww.clubcaninchomedey.com
DTSTAMP:20260421T110525Z
DTSTART:2026-05-26T20:00:0000Z
DTEND:2026-05-26T21:00:0000Z
SUMMARY:Agilité Inter/Expert Mardi 20h00
LOCATION:Club canin chomedey
DESCRIPTION:Vous avez terminé votre brevet novice ou intermédiaire et vous faites de la compétions de niveau Intermédiaire ou Expert; ceci est le prochain cours où vous devez vous inscrire.
END:VEVENT
END:VCALENDAR