BEGIN:VCALENDAR
PRODID:-//Microsoft Corporation//Outlook 14.0 MIMEDIR//EN
VERSION:2.0
METHOD:PUBLISH
BEGIN:VEVENT
UID:fc55ab178163bf252d6bcfff317d8aa4www.clubcaninchomedey.com
DTSTAMP:20260421T110519Z
DTSTART:2026-05-05T20:00:0000Z
DTEND:2026-05-05T21:00:0000Z
SUMMARY:Agilité Inter/Expert Mardi 20h00
LOCATION:Club canin chomedey
DESCRIPTION:Vous avez terminé votre brevet novice ou intermédiaire et vous faites de la compétions de niveau Intermédiaire ou Expert; ceci est le prochain cours où vous devez vous inscrire.
END:VEVENT
END:VCALENDAR