BEGIN:VCALENDAR
PRODID:-//Microsoft Corporation//Outlook 14.0 MIMEDIR//EN
VERSION:2.0
METHOD:PUBLISH
BEGIN:VEVENT
UID:59546dbb9f274522db99f79874101ae0www.clubcaninchomedey.com
DTSTAMP:20260421T110708Z
DTSTART:2026-06-06T10:45:0000Z
DTEND:2026-06-06T11:45:0000Z
SUMMARY:Obéissance - Maternelle Gr2 Samedi AM 
LOCATION:Club canin chomedey
DESCRIPTION:L’objectif de notre cours de maternelle est d’amener l’humain à comprendre son chien et comment l’amener à collaborer avec lui dans le plaisir et le respect.  Pour les chiots de 2 à 4 mois. VOTRE CHIOT NE DOIT PAS ÊTRE AGÉ DE PLUS DE 4 MOIS LORS DU DÉBUT DE CE COURS.  Veuillez communiquer avec nous si votre chiot est plus âgé de 4 mois pour exception.  Un minimum de participants est requis pour l’ouverture du cours. Si le groupe est complet, inscrivez-vous sur la liste d’attente. Nous pourrions ouvrir un nouveau groupe. 
Coût : 242$ + tx
Instructeur: Caroline Boudreault
END:VEVENT
END:VCALENDAR